BEGIN:VCALENDAR
VERSION:2.0
PRODID:-//CIS Nevada - ECPv6.15.20//NONSGML v1.0//EN
CALSCALE:GREGORIAN
METHOD:PUBLISH
X-ORIGINAL-URL:https://www.cisnevada.org
X-WR-CALDESC:Events for CIS Nevada
REFRESH-INTERVAL;VALUE=DURATION:PT1H
X-Robots-Tag:noindex
X-PUBLISHED-TTL:PT1H
BEGIN:VTIMEZONE
TZID:America/Los_Angeles
BEGIN:DAYLIGHT
TZOFFSETFROM:-0800
TZOFFSETTO:-0700
TZNAME:PDT
DTSTART:20250309T100000
END:DAYLIGHT
BEGIN:STANDARD
TZOFFSETFROM:-0700
TZOFFSETTO:-0800
TZNAME:PST
DTSTART:20251102T090000
END:STANDARD
BEGIN:DAYLIGHT
TZOFFSETFROM:-0800
TZOFFSETTO:-0700
TZNAME:PDT
DTSTART:20260308T100000
END:DAYLIGHT
BEGIN:STANDARD
TZOFFSETFROM:-0700
TZOFFSETTO:-0800
TZNAME:PST
DTSTART:20261101T090000
END:STANDARD
BEGIN:DAYLIGHT
TZOFFSETFROM:-0800
TZOFFSETTO:-0700
TZNAME:PDT
DTSTART:20270314T100000
END:DAYLIGHT
BEGIN:STANDARD
TZOFFSETFROM:-0700
TZOFFSETTO:-0800
TZNAME:PST
DTSTART:20271107T090000
END:STANDARD
END:VTIMEZONE
BEGIN:VEVENT
DTSTART;TZID=America/Los_Angeles:20260310T093000
DTEND;TZID=America/Los_Angeles:20260310T110000
DTSTAMP:20260419T061206
CREATED:20250812T215020Z
LAST-MODIFIED:20251216T195830Z
UID:10000099-1773135000-1773140400@www.cisnevada.org
SUMMARY:Resource Room Visit - Ullom Elementary School
DESCRIPTION:Connect with the mission of Communities In Schools of Southern Nevada by joining us for a transformative tour of our Resource Room. \nDate: Tuesday\, March 10\, 2026\nTime: 9:30-11:00 a.m. \nLocation: Ullom Elementary School \nGet to know our caring and skilled site coordinators\, Marcee and Natalia. During this exclusive visit\, you’ll have a tour of our Resource Room\, where we empower students to stay in school while creating relationships that propel their futures. \nTo secure your spot\, please complete this online form. RSVP is required for this exclusive site visit. \nHave Questions? Reach out to us at marketing@cisnevada.org. \nWe look forward to seeing you there!
URL:https://www.cisnevada.org/event/resource-room-visit-ullom-elementary-school/
CATEGORIES:Southern Nevada,State
ATTACH;FMTTYPE=image/png:https://www.cisnevada.org/wp-content/uploads/2025/08/Ullom-ES-e1765915102536.png
ORGANIZER;CN="Communities In Schools of Nevada":MAILTO:info@cisnevada.org
END:VEVENT
END:VCALENDAR